
BEGIN:VCALENDAR
VERSION:2.0
PRODID:-//Les Pieds dans le vent - ECPv6.15.20//NONSGML v1.0//EN
CALSCALE:GREGORIAN
METHOD:PUBLISH
X-WR-CALNAME:Les Pieds dans le vent
X-ORIGINAL-URL:https://lespiedsdanslevent.be
X-WR-CALDESC:Évènements pour Les Pieds dans le vent
REFRESH-INTERVAL;VALUE=DURATION:PT1H
X-Robots-Tag:noindex
X-PUBLISHED-TTL:PT1H
BEGIN:VTIMEZONE
TZID:UTC
BEGIN:STANDARD
TZOFFSETFROM:+0000
TZOFFSETTO:+0000
TZNAME:UTC
DTSTART:20230101T000000
END:STANDARD
END:VTIMEZONE
BEGIN:VEVENT
DTSTART;TZID=UTC:20240315T143000
DTEND;TZID=UTC:20240315T143000
DTSTAMP:20260423T181357
CREATED:20240920T111912Z
LAST-MODIFIED:20240920T111912Z
UID:10000016-1710513000-1710513000@lespiedsdanslevent.be
SUMMARY:Rapa au Centre Culturel Anima (Corse)
DESCRIPTION:Un petit garçon de 10 ans est hanté par ses rêves dans lesquels on lui enseigne une langue qui lui est totalement inconnue. Rapidement\, le petit Marc la maîtrise couramment – et pas seulement en rêve – sans savoir d’où elle vient et si elle existe vraiment. \nIl décide de parler cette langue à ses proches\, à l’école. S’ensuivent alors brimades et moqueries qui rendent le petit Marc de plus en plus isolé. La langue de ses rêves lui fait vivre un cauchemar éveillé\, mais il reste persuadé que\, dans un coin reculé du monde\, quelqu’un parle sa langue. \nMademoiselle Berlingot\, la bibliothécaire délurée qui est devenue son amie\, va changer la vie de Marc en le motivant dans sa quête\, en l’accompagnant dans ses recherches\, en provoquant une rencontre aussi inattendue que salutaire\, en bouleversant le destin…\n\nséance scolaire dès 7 ans
URL:https://lespiedsdanslevent.be/evenement/rapa-a-prunelli-del-fiumorbu-corse-2/
LOCATION:Prunelli del Fium’Orbu\, Prunelli-di-Fiumorbo\, Corse\, 20243\, France
CATEGORIES:Représentations scolaires
ATTACH;FMTTYPE=image/jpeg:https://lespiedsdanslevent.be/wp-content/uploads/2023/09/i-JcB28gC-XL.jpg
END:VEVENT
BEGIN:VEVENT
DTSTART;TZID=UTC:20240315T143000
DTEND;TZID=UTC:20240315T143000
DTSTAMP:20260423T181357
CREATED:20240920T112206Z
LAST-MODIFIED:20240920T112207Z
UID:10000077-1710513000-1710513000@lespiedsdanslevent.be
SUMMARY:Rapa au Centre Culturel Anima (Corse)
DESCRIPTION:Un petit garçon de 10 ans est hanté par ses rêves dans lesquels on lui enseigne une langue qui lui est totalement inconnue. Rapidement\, le petit Marc la maîtrise couramment – et pas seulement en rêve – sans savoir d’où elle vient et si elle existe vraiment. \nIl décide de parler cette langue à ses proches\, à l’école. S’ensuivent alors brimades et moqueries qui rendent le petit Marc de plus en plus isolé. La langue de ses rêves lui fait vivre un cauchemar éveillé\, mais il reste persuadé que\, dans un coin reculé du monde\, quelqu’un parle sa langue. \nMademoiselle Berlingot\, la bibliothécaire délurée qui est devenue son amie\, va changer la vie de Marc en le motivant dans sa quête\, en l’accompagnant dans ses recherches\, en provoquant une rencontre aussi inattendue que salutaire\, en bouleversant le destin…\n\nséance scolaire dès 7 ans
URL:https://lespiedsdanslevent.be/evenement/rapa-a-prunelli-del-fiumorbu-corse-3/
LOCATION:Prunelli del Fium’Orbu\, Prunelli-di-Fiumorbo\, Corse\, 20243\, France
CATEGORIES:Représentations scolaires
ATTACH;FMTTYPE=image/jpeg:https://lespiedsdanslevent.be/wp-content/uploads/2023/09/i-JcB28gC-XL.jpg
END:VEVENT
END:VCALENDAR