
BEGIN:VCALENDAR
VERSION:2.0
PRODID:-//Les Pieds dans le vent - ECPv6.15.20//NONSGML v1.0//EN
CALSCALE:GREGORIAN
METHOD:PUBLISH
X-WR-CALNAME:Les Pieds dans le vent
X-ORIGINAL-URL:https://lespiedsdanslevent.be
X-WR-CALDESC:Évènements pour Les Pieds dans le vent
REFRESH-INTERVAL;VALUE=DURATION:PT1H
X-Robots-Tag:noindex
X-PUBLISHED-TTL:PT1H
BEGIN:VTIMEZONE
TZID:UTC
BEGIN:STANDARD
TZOFFSETFROM:+0000
TZOFFSETTO:+0000
TZNAME:UTC
DTSTART:20230101T000000
END:STANDARD
END:VTIMEZONE
BEGIN:VEVENT
DTSTART;TZID=UTC:20240227T150000
DTEND;TZID=UTC:20240227T150000
DTSTAMP:20260423T181219
CREATED:20231103T085337Z
LAST-MODIFIED:20231120T141435Z
UID:10000027-1709046000-1709046000@lespiedsdanslevent.be
SUMMARY:Système 2 à Mouscron
DESCRIPTION:Ils sont deux à s’en occuper.\n– Oui\, chef\, tout va bien.\nTrier\, classer\, caser.\n– Oui tout va bien.\nBriquer\, lustrer\, tamponner.\n– Oui\, chef\, tout va bien.\n– Y a un intrus\, vous l’avez vu ?\n– Heu… non.\n– Attrapez-le !
URL:https://lespiedsdanslevent.be/evenement/systeme-2-a-mouscron/
LOCATION:Centre culturel de Mouscron\, Place Charles de Gaulle\, Moucron\, 7700\, Belgique
CATEGORIES:Tout public
ATTACH;FMTTYPE=image/jpeg:https://lespiedsdanslevent.be/wp-content/uploads/2023/10/Systeme_2_7722.jpeg
END:VEVENT
END:VCALENDAR