
BEGIN:VCALENDAR
VERSION:2.0
PRODID:-//Les Pieds dans le vent - ECPv6.15.20//NONSGML v1.0//EN
CALSCALE:GREGORIAN
METHOD:PUBLISH
X-ORIGINAL-URL:https://lespiedsdanslevent.be
X-WR-CALDESC:Évènements pour Les Pieds dans le vent
REFRESH-INTERVAL;VALUE=DURATION:PT1H
X-Robots-Tag:noindex
X-PUBLISHED-TTL:PT1H
BEGIN:VTIMEZONE
TZID:UTC
BEGIN:STANDARD
TZOFFSETFROM:+0000
TZOFFSETTO:+0000
TZNAME:UTC
DTSTART:20230101T000000
END:STANDARD
END:VTIMEZONE
BEGIN:VEVENT
DTSTART;TZID=UTC:20240215T100000
DTEND;TZID=UTC:20240215T100000
DTSTAMP:20260424T122439
CREATED:20231021T155051Z
LAST-MODIFIED:20240202T092201Z
UID:10000005-1707991200-1707991200@lespiedsdanslevent.be
SUMMARY:Rapa à Ekla pour tous
DESCRIPTION:Un petit garçon de 10 ans est hanté par ses rêves dans lesquels on lui enseigne une langue qui lui est totalement inconnue. Rapidement\, le petit Marc la maîtrise couramment – et pas seulement en rêve – sans savoir d’où elle vient et si elle existe vraiment. \nIl décide de parler cette langue à ses proches\, à l’école. S’ensuivent alors brimades et moqueries qui rendent le petit Marc de plus en plus isolé. La langue de ses rêves lui fait vivre un cauchemar éveillé\, mais il reste persuadé que\, dans un coin reculé du monde\, quelqu’un parle sa langue. \nMademoiselle Berlingot\, la bibliothécaire délurée qui est devenue son amie\, va changer la vie de Marc en le motivant dans sa quête\, en l’accompagnant dans ses recherches\, en provoquant une rencontre aussi inattendue que salutaire\, en bouleversant le destin… \nséance scolaire dès 7 ans
URL:https://lespiedsdanslevent.be/evenement/rapa-a-ekla-pour-tous-2/2024-02-15/1/
LOCATION:Ekla\, Rue Saint-Julien 30A\, 7110 La Louvière\, Belgique\, La Louvière\, 7110\, Belgique
CATEGORIES:Représentations scolaires
ATTACH;FMTTYPE=image/jpeg:https://lespiedsdanslevent.be/wp-content/uploads/2023/09/i-JcB28gC-XL.jpg
END:VEVENT
BEGIN:VEVENT
DTSTART;TZID=UTC:20240215T133000
DTEND;TZID=UTC:20240215T143000
DTSTAMP:20260424T122439
CREATED:20231021T155051Z
LAST-MODIFIED:20240202T092201Z
UID:10000051-1708003800-1708007400@lespiedsdanslevent.be
SUMMARY:Rapa à Ekla pour tous
DESCRIPTION:Un petit garçon de 10 ans est hanté par ses rêves dans lesquels on lui enseigne une langue qui lui est totalement inconnue. Rapidement\, le petit Marc la maîtrise couramment – et pas seulement en rêve – sans savoir d’où elle vient et si elle existe vraiment. \nIl décide de parler cette langue à ses proches\, à l’école. S’ensuivent alors brimades et moqueries qui rendent le petit Marc de plus en plus isolé. La langue de ses rêves lui fait vivre un cauchemar éveillé\, mais il reste persuadé que\, dans un coin reculé du monde\, quelqu’un parle sa langue. \nMademoiselle Berlingot\, la bibliothécaire délurée qui est devenue son amie\, va changer la vie de Marc en le motivant dans sa quête\, en l’accompagnant dans ses recherches\, en provoquant une rencontre aussi inattendue que salutaire\, en bouleversant le destin… \nséance scolaire dès 7 ans
URL:https://lespiedsdanslevent.be/evenement/rapa-a-ekla-pour-tous-2/2024-02-15/2/
LOCATION:Ekla\, Rue Saint-Julien 30A\, 7110 La Louvière\, Belgique\, La Louvière\, 7110\, Belgique
CATEGORIES:Représentations scolaires
ATTACH;FMTTYPE=image/jpeg:https://lespiedsdanslevent.be/wp-content/uploads/2023/09/i-JcB28gC-XL.jpg
END:VEVENT
END:VCALENDAR