
BEGIN:VCALENDAR
VERSION:2.0
PRODID:-//Les Pieds dans le vent - ECPv6.15.20//NONSGML v1.0//EN
CALSCALE:GREGORIAN
METHOD:PUBLISH
X-WR-CALNAME:Les Pieds dans le vent
X-ORIGINAL-URL:https://lespiedsdanslevent.be
X-WR-CALDESC:Évènements pour Les Pieds dans le vent
REFRESH-INTERVAL;VALUE=DURATION:PT1H
X-Robots-Tag:noindex
X-PUBLISHED-TTL:PT1H
BEGIN:VTIMEZONE
TZID:Europe/Brussels
BEGIN:DAYLIGHT
TZOFFSETFROM:+0100
TZOFFSETTO:+0200
TZNAME:CEST
DTSTART:20240331T010000
END:DAYLIGHT
BEGIN:STANDARD
TZOFFSETFROM:+0200
TZOFFSETTO:+0100
TZNAME:CET
DTSTART:20241027T010000
END:STANDARD
BEGIN:DAYLIGHT
TZOFFSETFROM:+0100
TZOFFSETTO:+0200
TZNAME:CEST
DTSTART:20250330T010000
END:DAYLIGHT
BEGIN:STANDARD
TZOFFSETFROM:+0200
TZOFFSETTO:+0100
TZNAME:CET
DTSTART:20251026T010000
END:STANDARD
BEGIN:DAYLIGHT
TZOFFSETFROM:+0100
TZOFFSETTO:+0200
TZNAME:CEST
DTSTART:20260329T010000
END:DAYLIGHT
BEGIN:STANDARD
TZOFFSETFROM:+0200
TZOFFSETTO:+0100
TZNAME:CET
DTSTART:20261025T010000
END:STANDARD
END:VTIMEZONE
BEGIN:VEVENT
DTSTART;TZID=Europe/Brussels:20250602T160000
DTEND;TZID=Europe/Brussels:20250602T160000
DTSTAMP:20260425T041944
CREATED:20250527T130829Z
LAST-MODIFIED:20250527T130829Z
UID:10000230-1748880000-1748880000@lespiedsdanslevent.be
SUMMARY:La fiction radiophonique « Rapa » (87.7 FM BXL)
DESCRIPTION:Rendez-vous à 16h sur Radio Air Libre  87.7 FM BXL. \nBonne écoute\, bon voyage ⛵️🌊🌎🌙🧳📚 Avec Valérie Joyeux Vincent Raoult Christian Dalimier Daniel Vincke
URL:https://lespiedsdanslevent.be/evenement/la-fiction-radiophonique-rapa-87-7-fm-bxl/
ATTACH;FMTTYPE=image/jpeg:https://lespiedsdanslevent.be/wp-content/uploads/2025/05/PXL_20250205_1628505754-scaled.jpg
END:VEVENT
BEGIN:VEVENT
DTSTART;TZID=Europe/Brussels:20250601T110000
DTEND;TZID=Europe/Brussels:20250601T110000
DTSTAMP:20260425T041944
CREATED:20250527T130133Z
LAST-MODIFIED:20250527T130133Z
UID:10000229-1748775600-1748775600@lespiedsdanslevent.be
SUMMARY:La fiction radiophonique "Rapa" (48 FM)
DESCRIPTION:Rendez-vous à 11h sur 48 FM  \nBonne écoute\, bon voyage ⛵️🌊🌎🌙🧳📚 Avec Valérie Joyeux Vincent Raoult Christian Dalimier Daniel Vincke
URL:https://lespiedsdanslevent.be/evenement/la-fiction-radiophonique-rapa-48-fm/
CATEGORIES:Fiction radiophonique
ATTACH;FMTTYPE=image/jpeg:https://lespiedsdanslevent.be/wp-content/uploads/2025/05/PXL_20250205_1628505754-scaled.jpg
END:VEVENT
BEGIN:VEVENT
DTSTART;TZID=Europe/Brussels:20250528T140000
DTEND;TZID=Europe/Brussels:20250528T140000
DTSTAMP:20260425T041944
CREATED:20250527T125647Z
LAST-MODIFIED:20250527T125829Z
UID:10000228-1748440800-1748440800@lespiedsdanslevent.be
SUMMARY:La fiction radiophonique "Rapa" (RUN 88.1 FM NAMUR)
DESCRIPTION:Rendez-vous à 14h sur RUN 88.1 FM NAMUR \nBonne écoute\, bon voyage ⛵️🌊🌎🌙🧳📚\nAvec Valérie Joyeux Vincent Raoult Christian Dalimier  Daniel Vincke
URL:https://lespiedsdanslevent.be/evenement/la-fiction-radiophonique-rapa-run-88-1-fm-namur/
ATTACH;FMTTYPE=image/jpeg:https://lespiedsdanslevent.be/wp-content/uploads/2025/05/PXL_20250205_1628505754-scaled.jpg
END:VEVENT
END:VCALENDAR