
BEGIN:VCALENDAR
VERSION:2.0
PRODID:-//Les Pieds dans le vent - ECPv6.15.20//NONSGML v1.0//EN
CALSCALE:GREGORIAN
METHOD:PUBLISH
X-ORIGINAL-URL:https://lespiedsdanslevent.be
X-WR-CALDESC:Évènements pour Les Pieds dans le vent
REFRESH-INTERVAL;VALUE=DURATION:PT1H
X-Robots-Tag:noindex
X-PUBLISHED-TTL:PT1H
BEGIN:VTIMEZONE
TZID:Europe/Brussels
BEGIN:DAYLIGHT
TZOFFSETFROM:+0100
TZOFFSETTO:+0200
TZNAME:CEST
DTSTART:20230326T010000
END:DAYLIGHT
BEGIN:STANDARD
TZOFFSETFROM:+0200
TZOFFSETTO:+0100
TZNAME:CET
DTSTART:20231029T010000
END:STANDARD
BEGIN:DAYLIGHT
TZOFFSETFROM:+0100
TZOFFSETTO:+0200
TZNAME:CEST
DTSTART:20240331T010000
END:DAYLIGHT
BEGIN:STANDARD
TZOFFSETFROM:+0200
TZOFFSETTO:+0100
TZNAME:CET
DTSTART:20241027T010000
END:STANDARD
BEGIN:DAYLIGHT
TZOFFSETFROM:+0100
TZOFFSETTO:+0200
TZNAME:CEST
DTSTART:20250330T010000
END:DAYLIGHT
BEGIN:STANDARD
TZOFFSETFROM:+0200
TZOFFSETTO:+0100
TZNAME:CET
DTSTART:20251026T010000
END:STANDARD
END:VTIMEZONE
BEGIN:VEVENT
DTSTART;TZID=Europe/Brussels:20241227T100000
DTEND;TZID=Europe/Brussels:20241227T100000
DTSTAMP:20260423T110927
CREATED:20240920T113949Z
LAST-MODIFIED:20241025T123513Z
UID:10000081-1735293600-1735293600@lespiedsdanslevent.be
SUMMARY:En barque à la MCCS de Molenbeek / Noël au Théâtre
DESCRIPTION:Séance tout public – Dès 3 ans
URL:https://lespiedsdanslevent.be/evenement/en-barque-a-la-mccs-de-molenbeek-noel-au-theatre/2024-12-27/1/
LOCATION:Maison des Cultures et de la Cohésion Sociale de Molenbeek\, Rue Mommaerts 4\, 1080 Bruxelles\, Bruxelles\, Belgique
CATEGORIES:Tout public
ATTACH;FMTTYPE=image/jpeg:https://lespiedsdanslevent.be/wp-content/uploads/2024/02/COMPAGNIE-LES-PIEDS-DANS-LE-VENT-▪-En-barque-6-1-scaled.jpg
END:VEVENT
BEGIN:VEVENT
DTSTART;TZID=Europe/Brussels:20241227T133000
DTEND;TZID=Europe/Brussels:20241227T133000
DTSTAMP:20260423T110927
CREATED:20240920T113949Z
LAST-MODIFIED:20241025T123513Z
UID:10000082-1735306200-1735306200@lespiedsdanslevent.be
SUMMARY:En barque à la MCCS de Molenbeek / Noël au Théâtre
DESCRIPTION:Séance tout public – Dès 3 ans
URL:https://lespiedsdanslevent.be/evenement/en-barque-a-la-mccs-de-molenbeek-noel-au-theatre/2024-12-27/2/
LOCATION:Maison des Cultures et de la Cohésion Sociale de Molenbeek\, Rue Mommaerts 4\, 1080 Bruxelles\, Bruxelles\, Belgique
CATEGORIES:Tout public
ATTACH;FMTTYPE=image/jpeg:https://lespiedsdanslevent.be/wp-content/uploads/2024/02/COMPAGNIE-LES-PIEDS-DANS-LE-VENT-▪-En-barque-6-1-scaled.jpg
END:VEVENT
END:VCALENDAR