
BEGIN:VCALENDAR
VERSION:2.0
PRODID:-//Les Pieds dans le vent - ECPv6.15.20//NONSGML v1.0//EN
CALSCALE:GREGORIAN
METHOD:PUBLISH
X-ORIGINAL-URL:https://lespiedsdanslevent.be
X-WR-CALDESC:Évènements pour Les Pieds dans le vent
REFRESH-INTERVAL;VALUE=DURATION:PT1H
X-Robots-Tag:noindex
X-PUBLISHED-TTL:PT1H
BEGIN:VTIMEZONE
TZID:Europe/Brussels
BEGIN:DAYLIGHT
TZOFFSETFROM:+0100
TZOFFSETTO:+0200
TZNAME:CEST
DTSTART:20250330T010000
END:DAYLIGHT
BEGIN:STANDARD
TZOFFSETFROM:+0200
TZOFFSETTO:+0100
TZNAME:CET
DTSTART:20251026T010000
END:STANDARD
BEGIN:DAYLIGHT
TZOFFSETFROM:+0100
TZOFFSETTO:+0200
TZNAME:CEST
DTSTART:20260329T010000
END:DAYLIGHT
BEGIN:STANDARD
TZOFFSETFROM:+0200
TZOFFSETTO:+0100
TZNAME:CET
DTSTART:20261025T010000
END:STANDARD
BEGIN:DAYLIGHT
TZOFFSETFROM:+0100
TZOFFSETTO:+0200
TZNAME:CEST
DTSTART:20270328T010000
END:DAYLIGHT
BEGIN:STANDARD
TZOFFSETFROM:+0200
TZOFFSETTO:+0100
TZNAME:CET
DTSTART:20271031T010000
END:STANDARD
END:VTIMEZONE
BEGIN:VEVENT
DTSTART;TZID=Europe/Brussels:20260308T150000
DTEND;TZID=Europe/Brussels:20260308T150000
DTSTAMP:20260421T054515
CREATED:20250328T163333Z
LAST-MODIFIED:20250502T100002Z
UID:10000184-1772982000-1772982000@lespiedsdanslevent.be
SUMMARY:En barque au SPOTT (Centre Culturel d'Ottignies-Louvain-la-Neuve)
DESCRIPTION:Séance tout public – Dès 3 ans
URL:https://lespiedsdanslevent.be/evenement/en-barque-au-spott-centre-culturel-dottignies-louvain-la-neuve/
LOCATION:SPOTT – Centre Culturel d’Ottignies-Louvain-la-Neuve\, Av. des Combattants 41\, Ottignies-Louvain-la-Neuve\, 1340\, Belgium
CATEGORIES:Tout public
ATTACH;FMTTYPE=image/jpeg:https://lespiedsdanslevent.be/wp-content/uploads/2024/02/COMPAGNIE-LES-PIEDS-DANS-LE-VENT-▪-En-barque-6-1-scaled.jpg
END:VEVENT
BEGIN:VEVENT
DTSTART;TZID=Europe/Brussels:20260315T160000
DTEND;TZID=Europe/Brussels:20260315T160000
DTSTAMP:20260421T054515
CREATED:20250730T114303Z
LAST-MODIFIED:20250730T114303Z
UID:10000248-1773590400-1773590400@lespiedsdanslevent.be
SUMMARY:En Barque à Mars - Mons Arts de la scène
DESCRIPTION:Séance tou public – Dès 3 ans
URL:https://lespiedsdanslevent.be/evenement/en-barque-a-mars-mons-arts-de-la-scene/
LOCATION:Mars – Mons Arts de la scène\, Rue de Nimy 106\, 7000 Mons\, Mons\, 7000\, Belgium
CATEGORIES:Tout public
ATTACH;FMTTYPE=image/jpeg:https://lespiedsdanslevent.be/wp-content/uploads/2024/02/COMPAGNIE-LES-PIEDS-DANS-LE-VENT-▪-En-barque-6-1-scaled.jpg
END:VEVENT
BEGIN:VEVENT
DTSTART;TZID=Europe/Brussels:20260321T110000
DTEND;TZID=Europe/Brussels:20260321T110000
DTSTAMP:20260421T054515
CREATED:20251219T165354Z
LAST-MODIFIED:20251219T165420Z
UID:10000320-1774090800-1774090800@lespiedsdanslevent.be
SUMMARY:En barque au Wolubilis
DESCRIPTION:Séance tout public – Dès 3 ans
URL:https://lespiedsdanslevent.be/evenement/en-barque-au-wolubilis-3/2026-03-21/1/
LOCATION:Wolubilis\, Cr Paul-Henri Spaak 1\, 1200 Woluwe-Saint-Lambert\, Bruxelles\, 1200\, Belgium
CATEGORIES:Tout public
ATTACH;FMTTYPE=image/jpeg:https://lespiedsdanslevent.be/wp-content/uploads/2024/02/COMPAGNIE-LES-PIEDS-DANS-LE-VENT-▪-En-barque-6-1-scaled.jpg
END:VEVENT
BEGIN:VEVENT
DTSTART;TZID=Europe/Brussels:20260321T160000
DTEND;TZID=Europe/Brussels:20260321T160000
DTSTAMP:20260421T054515
CREATED:20251219T165354Z
LAST-MODIFIED:20251219T165420Z
UID:10000325-1774108800-1774108800@lespiedsdanslevent.be
SUMMARY:En barque au Wolubilis
DESCRIPTION:Séance tout public – Dès 3 ans
URL:https://lespiedsdanslevent.be/evenement/en-barque-au-wolubilis-3/2026-03-21/2/
LOCATION:Wolubilis\, Cr Paul-Henri Spaak 1\, 1200 Woluwe-Saint-Lambert\, Bruxelles\, 1200\, Belgium
CATEGORIES:Tout public
ATTACH;FMTTYPE=image/jpeg:https://lespiedsdanslevent.be/wp-content/uploads/2024/02/COMPAGNIE-LES-PIEDS-DANS-LE-VENT-▪-En-barque-6-1-scaled.jpg
END:VEVENT
BEGIN:VEVENT
DTSTART;TZID=Europe/Brussels:20260322T150000
DTEND;TZID=Europe/Brussels:20260322T150000
DTSTAMP:20260421T054515
CREATED:20250730T123146Z
LAST-MODIFIED:20250730T123146Z
UID:10000257-1774191600-1774191600@lespiedsdanslevent.be
SUMMARY:En barque à l'Archipel 19
DESCRIPTION:Séance tout public – Dès 3 ans
URL:https://lespiedsdanslevent.be/evenement/en-barque-a-larchipel-19/
LOCATION:Archipel 19 – Centre culturel de Berchem-Sainte-Agathe et de Koekelberg.\, Pl. de l'Eglise 15\, 1082 Bruxelles\, Bruxelles\, Belgium
CATEGORIES:Tout public
ATTACH;FMTTYPE=image/jpeg:https://lespiedsdanslevent.be/wp-content/uploads/2024/02/COMPAGNIE-LES-PIEDS-DANS-LE-VENT-▪-En-barque-6-1-scaled.jpg
END:VEVENT
END:VCALENDAR