
BEGIN:VCALENDAR
VERSION:2.0
PRODID:-//Les Pieds dans le vent - ECPv6.15.20//NONSGML v1.0//EN
CALSCALE:GREGORIAN
METHOD:PUBLISH
X-WR-CALNAME:Les Pieds dans le vent
X-ORIGINAL-URL:https://lespiedsdanslevent.be
X-WR-CALDESC:Évènements pour Les Pieds dans le vent
REFRESH-INTERVAL;VALUE=DURATION:PT1H
X-Robots-Tag:noindex
X-PUBLISHED-TTL:PT1H
BEGIN:VTIMEZONE
TZID:Europe/Brussels
BEGIN:DAYLIGHT
TZOFFSETFROM:+0100
TZOFFSETTO:+0200
TZNAME:CEST
DTSTART:20250330T010000
END:DAYLIGHT
BEGIN:STANDARD
TZOFFSETFROM:+0200
TZOFFSETTO:+0100
TZNAME:CET
DTSTART:20251026T010000
END:STANDARD
BEGIN:DAYLIGHT
TZOFFSETFROM:+0100
TZOFFSETTO:+0200
TZNAME:CEST
DTSTART:20260329T010000
END:DAYLIGHT
BEGIN:STANDARD
TZOFFSETFROM:+0200
TZOFFSETTO:+0100
TZNAME:CET
DTSTART:20261025T010000
END:STANDARD
BEGIN:DAYLIGHT
TZOFFSETFROM:+0100
TZOFFSETTO:+0200
TZNAME:CEST
DTSTART:20270328T010000
END:DAYLIGHT
BEGIN:STANDARD
TZOFFSETFROM:+0200
TZOFFSETTO:+0100
TZNAME:CET
DTSTART:20271031T010000
END:STANDARD
END:VTIMEZONE
BEGIN:VEVENT
DTSTART;TZID=Europe/Brussels:20260207T160000
DTEND;TZID=Europe/Brussels:20260207T160000
DTSTAMP:20260421T072452
CREATED:20250508T144848Z
LAST-MODIFIED:20250508T144848Z
UID:10000223-1770480000-1770480000@lespiedsdanslevent.be
SUMMARY:En barque à la Maison de la culture de Tournai
DESCRIPTION:Séance tout public – Dès 3 ans
URL:https://lespiedsdanslevent.be/evenement/en-barque-a-la-maison-de-la-culture-de-tournai-2/
LOCATION:Maison de la culture de Tournai\, Av. des Frères Rimbaut 2\, Tournai\, 7500\, Belgium
CATEGORIES:Tout public
ATTACH;FMTTYPE=image/jpeg:https://lespiedsdanslevent.be/wp-content/uploads/2024/02/COMPAGNIE-LES-PIEDS-DANS-LE-VENT-▪-En-barque-6-1-scaled.jpg
ORGANIZER;CN="Maison de la culture de Tournai":MAILTO:billetterie@maisonculturetournai.com
END:VEVENT
BEGIN:VEVENT
DTSTART;TZID=Europe/Brussels:20260220T150000
DTEND;TZID=Europe/Brussels:20260220T150000
DTSTAMP:20260421T072452
CREATED:20241114T111021Z
LAST-MODIFIED:20251219T155957Z
UID:10000148-1771599600-1771599600@lespiedsdanslevent.be
SUMMARY:En barque à Herve - Scène du Bocage
DESCRIPTION:Séance tout public – Dès 3 ans
URL:https://lespiedsdanslevent.be/evenement/en-barque-a-herve/
LOCATION:La Scène du Bocage\, Pl. de l'Hotel de Ville 18\, Herve\, 4650\, Belgium
CATEGORIES:Tout public
ATTACH;FMTTYPE=image/jpeg:https://lespiedsdanslevent.be/wp-content/uploads/2024/02/COMPAGNIE-LES-PIEDS-DANS-LE-VENT-▪-En-barque-6-1-scaled.jpg
END:VEVENT
BEGIN:VEVENT
DTSTART;TZID=Europe/Brussels:20260225T163000
DTEND;TZID=Europe/Brussels:20260225T163000
DTSTAMP:20260421T072452
CREATED:20250730T113411Z
LAST-MODIFIED:20250730T113411Z
UID:10000247-1772037000-1772037000@lespiedsdanslevent.be
SUMMARY:En barque au Centre culturel de Wanze
DESCRIPTION:Séance tout public – Dès 3 ans
URL:https://lespiedsdanslevent.be/evenement/en-barque-au-centre-culturel-de-wanze/
LOCATION:Centre Culturel de Wanze\, place Faniel\, 8 - 4520 WANZE\, Wanze\, 4520\, Belgium
CATEGORIES:Tout public
ATTACH;FMTTYPE=image/jpeg:https://lespiedsdanslevent.be/wp-content/uploads/2024/02/COMPAGNIE-LES-PIEDS-DANS-LE-VENT-▪-En-barque-6-1-scaled.jpg
END:VEVENT
END:VCALENDAR