
BEGIN:VCALENDAR
VERSION:2.0
PRODID:-//Les Pieds dans le vent - ECPv6.15.20//NONSGML v1.0//EN
CALSCALE:GREGORIAN
METHOD:PUBLISH
X-WR-CALNAME:Les Pieds dans le vent
X-ORIGINAL-URL:https://lespiedsdanslevent.be
X-WR-CALDESC:Évènements pour Les Pieds dans le vent
REFRESH-INTERVAL;VALUE=DURATION:PT1H
X-Robots-Tag:noindex
X-PUBLISHED-TTL:PT1H
BEGIN:VTIMEZONE
TZID:Europe/Brussels
BEGIN:DAYLIGHT
TZOFFSETFROM:+0100
TZOFFSETTO:+0200
TZNAME:CEST
DTSTART:20240331T010000
END:DAYLIGHT
BEGIN:STANDARD
TZOFFSETFROM:+0200
TZOFFSETTO:+0100
TZNAME:CET
DTSTART:20241027T010000
END:STANDARD
BEGIN:DAYLIGHT
TZOFFSETFROM:+0100
TZOFFSETTO:+0200
TZNAME:CEST
DTSTART:20250330T010000
END:DAYLIGHT
BEGIN:STANDARD
TZOFFSETFROM:+0200
TZOFFSETTO:+0100
TZNAME:CET
DTSTART:20251026T010000
END:STANDARD
BEGIN:DAYLIGHT
TZOFFSETFROM:+0100
TZOFFSETTO:+0200
TZNAME:CEST
DTSTART:20260329T010000
END:DAYLIGHT
BEGIN:STANDARD
TZOFFSETFROM:+0200
TZOFFSETTO:+0100
TZNAME:CET
DTSTART:20261025T010000
END:STANDARD
END:VTIMEZONE
BEGIN:VEVENT
DTSTART;TZID=Europe/Brussels:20251203T143000
DTEND;TZID=Europe/Brussels:20251203T143000
DTSTAMP:20260421T222439
CREATED:20241030T124431Z
LAST-MODIFIED:20241031T124751Z
UID:10000145-1764772200-1764772200@lespiedsdanslevent.be
SUMMARY:En barque à Rebecq
DESCRIPTION:Séance tout public – Dès 3 ans
URL:https://lespiedsdanslevent.be/evenement/en-barque-a-rebecq/
LOCATION:ASBL Centre culturel de Rebecq\, Chemin du Croly 11\, Rebecq\, 1430\, Belgique
CATEGORIES:Tout public
ATTACH;FMTTYPE=image/jpeg:https://lespiedsdanslevent.be/wp-content/uploads/2024/02/COMPAGNIE-LES-PIEDS-DANS-LE-VENT-▪-En-barque-6-1-scaled.jpg
END:VEVENT
BEGIN:VEVENT
DTSTART;TZID=Europe/Brussels:20251210T150000
DTEND;TZID=Europe/Brussels:20251210T150000
DTSTAMP:20260421T222439
CREATED:20250502T121259Z
LAST-MODIFIED:20250502T121259Z
UID:10000193-1765378800-1765378800@lespiedsdanslevent.be
SUMMARY:En barque au Centre culturel de Nivelles
DESCRIPTION:Séance tout public – Dès 3 ans
URL:https://lespiedsdanslevent.be/evenement/en-barque-au-centre-culturel-de-nivelles/
LOCATION:Centre culturel de Nivelles\, Pl. Albert Ier 1\, Nivelles\, 1400\, Belgium
CATEGORIES:Tout public
ATTACH;FMTTYPE=image/jpeg:https://lespiedsdanslevent.be/wp-content/uploads/2024/02/COMPAGNIE-LES-PIEDS-DANS-LE-VENT-▪-En-barque-6-1-scaled.jpg
END:VEVENT
BEGIN:VEVENT
DTSTART;TZID=Europe/Brussels:20251221T153000
DTEND;TZID=Europe/Brussels:20251221T153000
DTSTAMP:20260421T222439
CREATED:20241031T124032Z
LAST-MODIFIED:20250328T160321Z
UID:10000147-1766331000-1766331000@lespiedsdanslevent.be
SUMMARY:En barque au Centre culturel de Theux (NAT)
DESCRIPTION:Séance tout public – Dès 3 ans
URL:https://lespiedsdanslevent.be/evenement/en-barque-au-cc-de-theux-nat/
LOCATION:Centre culturel de Theux\, Théâtre l’Autre Rive rue Victor Brodure 63 à 4910 Polleur\, Theux
CATEGORIES:Tout public
ATTACH;FMTTYPE=image/jpeg:https://lespiedsdanslevent.be/wp-content/uploads/2024/02/COMPAGNIE-LES-PIEDS-DANS-LE-VENT-▪-En-barque-6-1-scaled.jpg
END:VEVENT
BEGIN:VEVENT
DTSTART;TZID=Europe/Brussels:20251223T160000
DTEND;TZID=Europe/Brussels:20251223T160000
DTSTAMP:20260421T222439
CREATED:20250502T124435Z
LAST-MODIFIED:20250502T124837Z
UID:10000196-1766505600-1766505600@lespiedsdanslevent.be
SUMMARY:En barque au Centre culturel de Rossignol-Tintigny
DESCRIPTION:Séance tout public – Dès 3 ans
URL:https://lespiedsdanslevent.be/evenement/en-barque-centre-culturel-de-rossignol-tintigny/
LOCATION:Centre culturel de Rossignol-Tintigny\, Rue Camille Joset 1\, Tintigny\, 6730\, Belgium
CATEGORIES:Tout public
ATTACH;FMTTYPE=image/jpeg:https://lespiedsdanslevent.be/wp-content/uploads/2024/02/COMPAGNIE-LES-PIEDS-DANS-LE-VENT-▪-En-barque-6-1-scaled.jpg
END:VEVENT
BEGIN:VEVENT
DTSTART;TZID=Europe/Brussels:20251227T150000
DTEND;TZID=Europe/Brussels:20251227T150000
DTSTAMP:20260421T222439
CREATED:20250730T111003Z
LAST-MODIFIED:20250730T111003Z
UID:10000240-1766847600-1766847600@lespiedsdanslevent.be
SUMMARY:En barque au MCFA / Marche-en-Famenne
DESCRIPTION:Séance tout public – Dès 3 ans
URL:https://lespiedsdanslevent.be/evenement/en-barque-au-mcfa-marche-en-famenne/
LOCATION:| Maison de la Culture Famenne-Ardenne\, Chau. de l'Ourthe 74\, 6900 Marche-en-Famenne\, Marche-en-Famenne\, 6900\, Belgium
CATEGORIES:Tout public
ATTACH;FMTTYPE=image/jpeg:https://lespiedsdanslevent.be/wp-content/uploads/2024/02/COMPAGNIE-LES-PIEDS-DANS-LE-VENT-▪-En-barque-6-1-scaled.jpg
END:VEVENT
BEGIN:VEVENT
DTSTART;TZID=Europe/Brussels:20251227T203000
DTEND;TZID=Europe/Brussels:20251227T203000
DTSTAMP:20260421T222439
CREATED:20251016T090058Z
LAST-MODIFIED:20251016T142808Z
UID:10000304-1766867400-1766867400@lespiedsdanslevent.be
SUMMARY:Lecture : Nous Autres - Noël au Théâtre
DESCRIPTION:“Nous Autres”\, un croche-pied à nos a priori face au handicap. \nValérie Joyeux et Jean-Luc Piraux puisent dans leur vécu et leurs collections de témoignages. \n“Nous Autres”\,  propose des moments décalés entre rire et rage\, insolence et  tendresse\, gêne et beauté\, le tout rythmé par le metteur en scène Simon Thomas.
URL:https://lespiedsdanslevent.be/evenement/lecture-nous-autres-noel-au-theatre/
LOCATION:Théâtre des Riches-Claires\, Rue des Riches Claires 24\, 1000 Bruxelles\, Bruxelles
CATEGORIES:Tout public
ATTACH;FMTTYPE=image/jpeg:https://lespiedsdanslevent.be/wp-content/uploads/2025/10/Le-pied-1-scaled.jpeg
END:VEVENT
BEGIN:VEVENT
DTSTART;TZID=Europe/Brussels:20251228T150000
DTEND;TZID=Europe/Brussels:20251228T150000
DTSTAMP:20260421T222439
CREATED:20250502T125143Z
LAST-MODIFIED:20250502T130110Z
UID:10000197-1766934000-1766934000@lespiedsdanslevent.be
SUMMARY:En barque au Centre culturel de Dinant
DESCRIPTION:Séance tout public – Dès 3 ans
URL:https://lespiedsdanslevent.be/evenement/en-barque-au-centre-culturel-de-dinant-2/
LOCATION:Centre culturel de Dinant\, Rue Grande\, 37\, Dinant\, 5500\, Belgium
CATEGORIES:Tout public
ATTACH;FMTTYPE=image/jpeg:https://lespiedsdanslevent.be/wp-content/uploads/2024/02/COMPAGNIE-LES-PIEDS-DANS-LE-VENT-▪-En-barque-6-1-scaled.jpg
END:VEVENT
END:VCALENDAR