
BEGIN:VCALENDAR
VERSION:2.0
PRODID:-//Les Pieds dans le vent - ECPv6.15.20//NONSGML v1.0//EN
CALSCALE:GREGORIAN
METHOD:PUBLISH
X-WR-CALNAME:Les Pieds dans le vent
X-ORIGINAL-URL:https://lespiedsdanslevent.be
X-WR-CALDESC:Évènements pour Les Pieds dans le vent
REFRESH-INTERVAL;VALUE=DURATION:PT1H
X-Robots-Tag:noindex
X-PUBLISHED-TTL:PT1H
BEGIN:VTIMEZONE
TZID:Europe/Brussels
BEGIN:DAYLIGHT
TZOFFSETFROM:+0100
TZOFFSETTO:+0200
TZNAME:CEST
DTSTART:20240331T010000
END:DAYLIGHT
BEGIN:STANDARD
TZOFFSETFROM:+0200
TZOFFSETTO:+0100
TZNAME:CET
DTSTART:20241027T010000
END:STANDARD
BEGIN:DAYLIGHT
TZOFFSETFROM:+0100
TZOFFSETTO:+0200
TZNAME:CEST
DTSTART:20250330T010000
END:DAYLIGHT
BEGIN:STANDARD
TZOFFSETFROM:+0200
TZOFFSETTO:+0100
TZNAME:CET
DTSTART:20251026T010000
END:STANDARD
BEGIN:DAYLIGHT
TZOFFSETFROM:+0100
TZOFFSETTO:+0200
TZNAME:CEST
DTSTART:20260329T010000
END:DAYLIGHT
BEGIN:STANDARD
TZOFFSETFROM:+0200
TZOFFSETTO:+0100
TZNAME:CET
DTSTART:20261025T010000
END:STANDARD
END:VTIMEZONE
BEGIN:VEVENT
DTSTART;TZID=Europe/Brussels:20251109T150000
DTEND;TZID=Europe/Brussels:20251109T150000
DTSTAMP:20260421T222548
CREATED:20241025T145137Z
LAST-MODIFIED:20250502T095127Z
UID:10000135-1762700400-1762700400@lespiedsdanslevent.be
SUMMARY:En barque à Libramont Chevigny
DESCRIPTION:Séance tout public – Dès 3 ans
URL:https://lespiedsdanslevent.be/evenement/en-barque-a-libramont-chevigny/
LOCATION:Centre culturel de Libramont-Chevigny ｜Le Totem\, Av. de Houffalize 56D\, Libramont-Chevigny\, 6800\, Belgium
CATEGORIES:Tout public
ATTACH;FMTTYPE=image/jpeg:https://lespiedsdanslevent.be/wp-content/uploads/2024/02/COMPAGNIE-LES-PIEDS-DANS-LE-VENT-▪-En-barque-6-1-scaled.jpg
END:VEVENT
BEGIN:VEVENT
DTSTART;TZID=Europe/Brussels:20251112T150000
DTEND;TZID=Europe/Brussels:20251112T150000
DTSTAMP:20260421T222548
CREATED:20250221T170007Z
LAST-MODIFIED:20250321T160700Z
UID:10000153-1762959600-1762959600@lespiedsdanslevent.be
SUMMARY:En barque à l'ATRIUM57- Centre culturel de Gembloux
DESCRIPTION:Séance tout public – Dès 3 ans
URL:https://lespiedsdanslevent.be/evenement/en-barque-a-latrium57-centre-culturel-de-gembloux/
LOCATION:ATRIUM57 Centre culturel de Gembloux\, Rue du Moulin 57\, Gembloux\, 5030\, Belgium
CATEGORIES:Tout public
ATTACH;FMTTYPE=image/jpeg:https://lespiedsdanslevent.be/wp-content/uploads/2024/02/COMPAGNIE-LES-PIEDS-DANS-LE-VENT-▪-En-barque-6-1-scaled.jpg
END:VEVENT
BEGIN:VEVENT
DTSTART;TZID=Europe/Brussels:20251123T150000
DTEND;TZID=Europe/Brussels:20251123T150000
DTSTAMP:20260421T222548
CREATED:20250502T115412Z
LAST-MODIFIED:20250502T115412Z
UID:10000192-1763910000-1763910000@lespiedsdanslevent.be
SUMMARY:En barque à la Ferme de Martinrou
DESCRIPTION:Séance tout public – Dès 3 ans
URL:https://lespiedsdanslevent.be/evenement/en-barque-a-la-ferme-de-martinrou/
LOCATION:La Ferme de Martinrou\, Chée de Charleroi 615\, Fleurus\, 6220\, Belgium
CATEGORIES:Tout public
ATTACH;FMTTYPE=image/jpeg:https://lespiedsdanslevent.be/wp-content/uploads/2024/02/COMPAGNIE-LES-PIEDS-DANS-LE-VENT-▪-En-barque-6-1-scaled.jpg
END:VEVENT
END:VCALENDAR