
BEGIN:VCALENDAR
VERSION:2.0
PRODID:-//Les Pieds dans le vent - ECPv6.15.20//NONSGML v1.0//EN
CALSCALE:GREGORIAN
METHOD:PUBLISH
X-ORIGINAL-URL:https://lespiedsdanslevent.be
X-WR-CALDESC:Évènements pour Les Pieds dans le vent
REFRESH-INTERVAL;VALUE=DURATION:PT1H
X-Robots-Tag:noindex
X-PUBLISHED-TTL:PT1H
BEGIN:VTIMEZONE
TZID:Europe/Brussels
BEGIN:DAYLIGHT
TZOFFSETFROM:+0100
TZOFFSETTO:+0200
TZNAME:CEST
DTSTART:20240331T010000
END:DAYLIGHT
BEGIN:STANDARD
TZOFFSETFROM:+0200
TZOFFSETTO:+0100
TZNAME:CET
DTSTART:20241027T010000
END:STANDARD
BEGIN:DAYLIGHT
TZOFFSETFROM:+0100
TZOFFSETTO:+0200
TZNAME:CEST
DTSTART:20250330T010000
END:DAYLIGHT
BEGIN:STANDARD
TZOFFSETFROM:+0200
TZOFFSETTO:+0100
TZNAME:CET
DTSTART:20251026T010000
END:STANDARD
BEGIN:DAYLIGHT
TZOFFSETFROM:+0100
TZOFFSETTO:+0200
TZNAME:CEST
DTSTART:20260329T010000
END:DAYLIGHT
BEGIN:STANDARD
TZOFFSETFROM:+0200
TZOFFSETTO:+0100
TZNAME:CET
DTSTART:20261025T010000
END:STANDARD
END:VTIMEZONE
BEGIN:VEVENT
DTSTART;TZID=Europe/Brussels:20250202T160000
DTEND;TZID=Europe/Brussels:20250202T160000
DTSTAMP:20260423T094910
CREATED:20240920T130419Z
LAST-MODIFIED:20241025T151723Z
UID:10000114-1738512000-1738512000@lespiedsdanslevent.be
SUMMARY:En barque à la Roseraie
DESCRIPTION:Séance tout public – dès 3 ans
URL:https://lespiedsdanslevent.be/evenement/en-barque-a-la-roseraie/
LOCATION:La Roseraie\, Ch. d'Alsemberg 1299 1180 Uccle\, Belgique\, BRUXELLES\, 1180\, Belgium
CATEGORIES:Tout public
ATTACH;FMTTYPE=image/jpeg:https://lespiedsdanslevent.be/wp-content/uploads/2024/02/COMPAGNIE-LES-PIEDS-DANS-LE-VENT-▪-En-barque-6-1-scaled.jpg
END:VEVENT
BEGIN:VEVENT
DTSTART;TZID=Europe/Brussels:20250215T150000
DTEND;TZID=Europe/Brussels:20250215T150000
DTSTAMP:20260423T094910
CREATED:20240920T132908Z
LAST-MODIFIED:20241025T133216Z
UID:10000089-1739631600-1739631600@lespiedsdanslevent.be
SUMMARY:En barque à La montagne magique
DESCRIPTION:Séance tout public – Dès 3 ans
URL:https://lespiedsdanslevent.be/evenement/en-barque-a-la-moma-2/
LOCATION:Théâtre La montagne magique\, Rue du Marais 57\, Bruxelles\, 1000
CATEGORIES:Tout public
ATTACH;FMTTYPE=image/jpeg:https://lespiedsdanslevent.be/wp-content/uploads/2024/02/COMPAGNIE-LES-PIEDS-DANS-LE-VENT-▪-En-barque-6-1-scaled.jpg
END:VEVENT
BEGIN:VEVENT
DTSTART;TZID=Europe/Brussels:20250225T150000
DTEND;TZID=Europe/Brussels:20250225T150000
DTSTAMP:20260423T094910
CREATED:20240920T133256Z
LAST-MODIFIED:20241025T133507Z
UID:10000090-1740495600-1740495600@lespiedsdanslevent.be
SUMMARY:En barque à Mouscron
DESCRIPTION:Séance tout public – Dès 3 ans
URL:https://lespiedsdanslevent.be/evenement/en-barque-a-mouscron/
LOCATION:Centre culturel de Mouscron\, Place Charles de Gaulle\, Moucron\, 7700\, Belgique
CATEGORIES:Tout public
ATTACH;FMTTYPE=image/jpeg:https://lespiedsdanslevent.be/wp-content/uploads/2024/02/COMPAGNIE-LES-PIEDS-DANS-LE-VENT-▪-En-barque-6-1-scaled.jpg
END:VEVENT
BEGIN:VEVENT
DTSTART;TZID=Europe/Brussels:20250226T110000
DTEND;TZID=Europe/Brussels:20250226T110000
DTSTAMP:20260423T094910
CREATED:20240923T103154Z
LAST-MODIFIED:20241025T133735Z
UID:10000096-1740567600-1740567600@lespiedsdanslevent.be
SUMMARY:En barque au Théâtre des 4 Mains
DESCRIPTION:Séance tout public – Dès 3 ans
URL:https://lespiedsdanslevent.be/evenement/en-barque-au-theatre-des-4-mains-2/2025-02-26/
LOCATION:Théâtre des 4 Mains\, Rue Longue 152\, Beauvechain\, 1320\, Belgium
CATEGORIES:Tout public
ATTACH;FMTTYPE=image/jpeg:https://lespiedsdanslevent.be/wp-content/uploads/2024/02/COMPAGNIE-LES-PIEDS-DANS-LE-VENT-▪-En-barque-6-1-scaled.jpg
END:VEVENT
BEGIN:VEVENT
DTSTART;TZID=Europe/Brussels:20250227T110000
DTEND;TZID=Europe/Brussels:20250227T110000
DTSTAMP:20260423T094910
CREATED:20240923T103154Z
LAST-MODIFIED:20241025T133735Z
UID:10000107-1740654000-1740654000@lespiedsdanslevent.be
SUMMARY:En barque au Théâtre des 4 Mains
DESCRIPTION:Séance tout public – Dès 3 ans
URL:https://lespiedsdanslevent.be/evenement/en-barque-au-theatre-des-4-mains-2/2025-02-27/
LOCATION:Théâtre des 4 Mains\, Rue Longue 152\, Beauvechain\, 1320\, Belgium
CATEGORIES:Tout public
ATTACH;FMTTYPE=image/jpeg:https://lespiedsdanslevent.be/wp-content/uploads/2024/02/COMPAGNIE-LES-PIEDS-DANS-LE-VENT-▪-En-barque-6-1-scaled.jpg
END:VEVENT
BEGIN:VEVENT
DTSTART;TZID=Europe/Brussels:20250228T110000
DTEND;TZID=Europe/Brussels:20250228T110000
DTSTAMP:20260423T094910
CREATED:20240923T103154Z
LAST-MODIFIED:20241025T133735Z
UID:10000108-1740740400-1740740400@lespiedsdanslevent.be
SUMMARY:En barque au Théâtre des 4 Mains
DESCRIPTION:Séance tout public – Dès 3 ans
URL:https://lespiedsdanslevent.be/evenement/en-barque-au-theatre-des-4-mains-2/2025-02-28/
LOCATION:Théâtre des 4 Mains\, Rue Longue 152\, Beauvechain\, 1320\, Belgium
CATEGORIES:Tout public
ATTACH;FMTTYPE=image/jpeg:https://lespiedsdanslevent.be/wp-content/uploads/2024/02/COMPAGNIE-LES-PIEDS-DANS-LE-VENT-▪-En-barque-6-1-scaled.jpg
END:VEVENT
END:VCALENDAR